BEGIN:VCALENDAR
VERSION:2.0
PRODID:-//The Thaddeus Stevens &amp; Lydia Hamilton Smith Center for History &amp; Democracy - ECPv6.15.20//NONSGML v1.0//EN
CALSCALE:GREGORIAN
METHOD:PUBLISH
X-WR-CALNAME:The Thaddeus Stevens &amp; Lydia Hamilton Smith Center for History &amp; Democracy
X-ORIGINAL-URL:https://stevensandsmithcenter.org
X-WR-CALDESC:Events for The Thaddeus Stevens &amp; Lydia Hamilton Smith Center for History &amp; Democracy
REFRESH-INTERVAL;VALUE=DURATION:PT1H
X-Robots-Tag:noindex
X-PUBLISHED-TTL:PT1H
BEGIN:VTIMEZONE
TZID:America/New_York
BEGIN:DAYLIGHT
TZOFFSETFROM:-0500
TZOFFSETTO:-0400
TZNAME:EDT
DTSTART:20250309T070000
END:DAYLIGHT
BEGIN:STANDARD
TZOFFSETFROM:-0400
TZOFFSETTO:-0500
TZNAME:EST
DTSTART:20251102T060000
END:STANDARD
BEGIN:DAYLIGHT
TZOFFSETFROM:-0500
TZOFFSETTO:-0400
TZNAME:EDT
DTSTART:20260308T070000
END:DAYLIGHT
BEGIN:STANDARD
TZOFFSETFROM:-0400
TZOFFSETTO:-0500
TZNAME:EST
DTSTART:20261101T060000
END:STANDARD
BEGIN:DAYLIGHT
TZOFFSETFROM:-0500
TZOFFSETTO:-0400
TZNAME:EDT
DTSTART:20270314T070000
END:DAYLIGHT
BEGIN:STANDARD
TZOFFSETFROM:-0400
TZOFFSETTO:-0500
TZNAME:EST
DTSTART:20271107T060000
END:STANDARD
END:VTIMEZONE
BEGIN:VEVENT
DTSTART;VALUE=DATE:20260501
DTEND;VALUE=DATE:20260503
DTSTAMP:20260422T111710
CREATED:20260131T194143Z
LAST-MODIFIED:20260131T194143Z
UID:10000024-1777593600-1777766399@stevensandsmithcenter.org
SUMMARY:Grand Opening Weekend of the Stevens & Smith Center
DESCRIPTION:It’s the moment we’ve all been waiting for: the Grand Opening of the Thaddeus Stevens & Lydia Hamilton Smith Center for History and Democracy! \nJoin LancasterHistory for a weekend celebration\, including a ribbon cutting\, Grand Opening Gala\, and a family-friendly community block party! \nMore information to come!
URL:https://stevensandsmithcenter.org/event/grand-opening-weekend/
LOCATION:The Stevens & Smith Center\, 13-15 East Vine Street\, Lancaster\, PA\, 17602\, United States
END:VEVENT
BEGIN:VEVENT
DTSTART;TZID=America/New_York:20260501T080000
DTEND;TZID=America/New_York:20260501T100000
DTSTAMP:20260422T111710
CREATED:20260313T202503Z
LAST-MODIFIED:20260316T151058Z
UID:10000025-1777622400-1777629600@stevensandsmithcenter.org
SUMMARY:Grand Opening Ribbon Cutting Ceremony
DESCRIPTION:Opening on May 1\, 2026\, in the heart of downtown Lancaster\, the restored historic properties once owned by Thaddeus Stevens and his partner Lydia Hamilton Smith are re-envisioned as a state-of-the-art museum and education space. Innovative exhibits\, created with leading historians and designers\, confront slavery\, freedom\, and the ongoing fight for equality in America. LancasterHistory—together with many collaborative partners—are eager to welcome the public for this once-in-a-generation moment for our community\, a celebration as bold as the history it honors! \nThe excitement kicks off Friday morning as we officially open the Stevens & Smith Center with a celebratory ribbon-cutting! Doors open at 8am for coffee\, light fare\, and mingling. At 9am\, the program begins with inspiring remarks and special guest performances that set the stage for a powerful new chapter. \nThis event is free and open to the entire community; we can’t wait to celebrate with you! Please RSVP so we can ensure ample seating and plenty of breakfast items for everyone. Join us as we mark this historic moment together and open the doors to something extraordinary! \nRSVP for the Ribbon Cutting
URL:https://stevensandsmithcenter.org/event/ribbon/
LOCATION:The Stevens & Smith Center\, 13-15 East Vine Street\, Lancaster\, PA\, 17602\, United States
ATTACH;FMTTYPE=image/png:https://stevensandsmithcenter.org/wp-content/uploads/2026/03/Ribbon-Cutting_web.png
END:VEVENT
BEGIN:VEVENT
DTSTART;TZID=America/New_York:20260502T120000
DTEND;TZID=America/New_York:20260502T180000
DTSTAMP:20260422T111710
CREATED:20260316T151912Z
LAST-MODIFIED:20260316T151912Z
UID:10000027-1777723200-1777744800@stevensandsmithcenter.org
SUMMARY:Community Block Party for History
DESCRIPTION:The Stevens & Smith Center Grand Opening takes over East Vine Street for a buzzing community block party on Saturday\, May 2 from 12-6pm! Local artists\, musicians\, and neighbors bring the streets to life with creativity\, energy\, and good vibes. Families and friends can dive into hands-on activities and enjoy free timed entry to explore the Center. \nFree & open to the public. All are welcome! \nA more detailed schedule of programming\, vendors\, and tickets to visit the Stevens & Smith Center will be released in mid-April.
URL:https://stevensandsmithcenter.org/event/block-party/
LOCATION:The Stevens & Smith Center\, 13-15 East Vine Street\, Lancaster\, PA\, 17602\, United States
ATTACH;FMTTYPE=image/png:https://stevensandsmithcenter.org/wp-content/uploads/2026/03/BlockParty_Web.png
END:VEVENT
END:VCALENDAR